BEGIN:VCALENDAR
VERSION:2.0
PRODID:-//巴黎中国文化中心 - ECPv5.1.5//NONSGML v1.0//EN
CALSCALE:GREGORIAN
METHOD:PUBLISH
X-WR-CALNAME:巴黎中国文化中心
X-ORIGINAL-URL:https://www.ccc-paris.org
X-WR-CALDESC:Events for 巴黎中国文化中心
BEGIN:VTIMEZONE
TZID:Europe/Paris
BEGIN:DAYLIGHT
TZOFFSETFROM:+0100
TZOFFSETTO:+0200
TZNAME:CEST
DTSTART:20240331T010000
END:DAYLIGHT
BEGIN:STANDARD
TZOFFSETFROM:+0200
TZOFFSETTO:+0100
TZNAME:CET
DTSTART:20241027T010000
END:STANDARD
END:VTIMEZONE
BEGIN:VEVENT
DTSTART;VALUE=DATE:20241121
DTEND;VALUE=DATE:20241211
DTSTAMP:20260423T162222
CREATED:20241118T175208Z
LAST-MODIFIED:20241211T085631Z
UID:43879-1732147200-1733875199@www.ccc-paris.org
SUMMARY:人间有情——丰子恺漫画艺术精品展
DESCRIPTION:\n\n	巴黎中国文化中心 “人间有情——丰子恺漫画艺术精品展”，以丰子恺独特的艺术视角向法国观众呈现中国文化的深厚底蕴和人文情怀。 \n  \n丰子恺（1898-1975）是中国20世纪极具影响力的画家、文学家和艺术教育家，享有“现代中国漫画的开拓者”之誉。丰子恺先生的创作风格简洁朴素，却饱含深情，尤其擅长描绘儿童与自然，将日常生活中的温馨片刻化作永恒的艺术表达。他的作品中不仅有细腻的情感描写，还配有富有哲理的文字，形成了“诗画一体”的独特风格，展现出他对生活的热爱和对人性的洞察，在艺术和文学领域均有广泛影响。 \n  \n本次展览将呈现丰子恺先生的50幅经典作品，围绕“诗意之心”“赤子之心”和“悲悯之心”三大主题展开。这些作品不仅反映了丰子恺对中国传统文化的深刻理解，也表达了他对社会、人性和自然的深切关怀。丰子恺的艺术创作将中国绘画的细腻与西方漫画的表现力相结合，呈现出别具一格的艺术魅力，生动再现了中国社会的历史变迁与丰富多彩的生活画卷。 \n  \n巴黎中国文化中心诚挚邀请法国观众前来参观，透过丰子恺的作品，深入体会中国文化的精神世界，感受其中蕴含的诗意、童真与人文关怀。这将是一次跨越时空的艺术之旅，让观众在丰子恺的作品中寻找到温暖与共鸣，感受到中法文化交流的独特韵味。 \n  \n\n图片库\n\n	\n		\n			#gallery-1 {\n				margin: auto;\n			}\n			#gallery-1 .gallery-item {\n				float: left;\n				margin-top: 10px;\n				text-align: center;\n				width: 20%;\n			}\n			#gallery-1 img {\n				border: 2px solid #cfcfcf;\n			}\n			#gallery-1 .gallery-caption {\n				margin-left: 0;\n			}\n			/* see gallery_shortcode() in wp-includes/media.php */\n		\n		\n			\n				\n			\n			\n				\n			\n			\n				\n			\n			\n				\n			\n			\n				\n			\n			\n				\n			\n			\n				\n			\n			\n				\n			\n			\n				\n			\n			\n				\n			\n			\n				\n			\n			\n				\n			\n			\n				\n			\n			\n				\n			\n			\n				\n			\n		\n\n\n信息\n\n	展览对外开放时间： \n2024年11月21日周四至12月10日周二 \n周一至周六10:00-12:30/14:00-17:30 \n周日闭馆 \n  \n现代楼展廊 \n巴黎中国文化中心 \n1\, boulevard de la Tour-Maubourg \n75007 Paris \n  \n免费参观，无需预约 \n\n\n\n	—————— \n  \n展览开幕式 \n  \n2024年11月20日星期三16 :00 \n现代楼一楼大厅 \n巴黎中国文化中心 \n1\, boulevard de la Tour-Maubourg \n75007 Paris \n  \n免费入场 \n\n\n\n	公众开放预订链接\n\n\n\n\n	\n
URL:https://www.ccc-paris.org/zh/evenement/exposition-sentiments-humains/
CATEGORIES:其他活动,展览演出
ATTACH;FMTTYPE=image/jpeg:https://www.ccc-paris.org/wp-content/uploads/2024/11/bande-dessinee-de-Feng-Zikai-3.jpg
END:VEVENT
END:VCALENDAR