BEGIN:VCALENDAR
VERSION:2.0
PRODID:-//巴黎中国文化中心 - ECPv5.1.5//NONSGML v1.0//EN
CALSCALE:GREGORIAN
METHOD:PUBLISH
X-WR-CALNAME:巴黎中国文化中心
X-ORIGINAL-URL:https://www.ccc-paris.org
X-WR-CALDESC:Events for 巴黎中国文化中心
BEGIN:VTIMEZONE
TZID:Europe/Paris
BEGIN:DAYLIGHT
TZOFFSETFROM:+0100
TZOFFSETTO:+0200
TZNAME:CEST
DTSTART:20240331T010000
END:DAYLIGHT
BEGIN:STANDARD
TZOFFSETFROM:+0200
TZOFFSETTO:+0100
TZNAME:CET
DTSTART:20241027T010000
END:STANDARD
END:VTIMEZONE
BEGIN:VEVENT
DTSTART;VALUE=DATE:20241014
DTEND;VALUE=DATE:20241110
DTSTAMP:20260423T153037
CREATED:20241030T091744Z
LAST-MODIFIED:20241111T080553Z
UID:43669-1728864000-1731196799@www.ccc-paris.org
SUMMARY:2024中国戏曲文化月
DESCRIPTION:\n\n	\n中国戏曲作为中华文化的瑰宝，拥有悠久的历史与丰富的艺术内涵，是集文学、音乐、舞蹈、表演、美术于一体的综合艺术形式，传承千年，源远流长。其历史可追溯至春秋战国时期的歌舞杂戏，经过宋元的杂剧发展，最终在明清时期逐步形成了如今丰富多样的戏曲种类与形式。 \n  \n中国戏曲有着多种不同的流派和剧种，涵盖中国各地的地方戏，如气势恢宏的京剧、细腻典雅的昆曲、高亢激昂的秦腔、以及婉转柔美的越剧等。每一种剧种不仅展现了不同地域的文化特色，还融入了独特的音乐与表演风格，形成了丰富多彩的艺术形式。 \n  \n在表演中，戏曲艺术讲究“唱、念、做、打”，即歌唱、对白、动作和武打技巧，演员通过精湛的身段、念白与唱腔，生动刻画人物，传递深刻情感。其独特的程式化表演方式，使得每一个动作和声调都富有深意，呈现出极高的艺术美感。 \n  \n戏曲不仅是表演艺术，更是中国传统文化的缩影，蕴含着深厚的哲学思考、伦理道德和历史故事。通过传唱经典剧目，戏曲承载了中华民族的历史记忆与文化情感。 \n  \n2024年是中法建交60周年，同时也是中法文化旅游年。为此，巴黎中国文化中心联合多方，于10月中旬至11月上旬期间隆重推出2024中国戏曲文化月。此次活动为法国公众呈现一系列丰富多彩的展览、演出和讲座，深入介绍中国戏曲这一古老而富有生机的艺术形式，让大家切身感受中华传统文化的独特魅力。 \n  \n此外，本次中国戏曲文化月也是即将到来的第九届巴黎中国戏曲节的预热活动。第九届戏曲节暌违六年，终于将在2024年华丽回归，届时将通过经典戏曲剧目演出、戏曲舞台美术展览、戏曲电影展映、戏曲文化讲座以及艺术研讨沙龙等多元形式，全面展示中国戏曲的多彩风貌，向法国观众讲述中国故事，传递中国声音。 \n  \n第九届巴黎中国戏曲节期间，四场重磅演出将于11月6日至11月9日每晚在巴黎吉美博物馆举行，目前已开放售票。您可以点击这里进行预订，敬请关注，不容错过！ \n\n\n中国戏曲文化月：“国戏风华”戏曲舞台美术展\n\n	2024年10月14日周一至11月09日周六 \n周一至周六 \n10:00-12:30/14:00-18:00 \n  \n现代楼一层展廊 \n巴黎中国文化中心 \n1\, boulevard de la Tour-Maubourg \n75007 Paris \n  \n免费入场，无需预订 \n  \n戏曲舞台美术是戏曲艺术的重要组成部分，有着独树一帜的美学追求，既是传统文化的延续，又离不开时代的创新。它注重虚实相生、情景交融。 \n  \n本次展览所展出的作品是中国戏曲学院在追求戏曲舞台美术设计方面的综合成果，展现了近年来中国戏曲的艺术创作，探索思考与时代创新。 \n  \n展品包含精美的戏曲服饰，脸谱道具，戏曲舞台设计模型及图片等内容。 \n\n中国戏曲文化月：“逾越千万里”浙江越剧小百花法国巡演\n\n	2024年10月14日周一20:30 \n  \nComédie & Studio des Champs-Élysées \n14\, avenue Montaigne \n75008 Paris \n  \n—————— \n2024年10月15日周二20:30 \n  \nComédie & Studio des Champs-Élysées \n14\, avenue Montaigne \n75008 Paris \n  \n—————— \n2024年10月22日周二20:00 \n  \nThéâtre du Gymnase Marie Bell \n38\, boulevard de Bonne Nouvelle \n75010 Paris  \n  \n越剧是中国主要戏曲剧种，起源于浙江嵊州，兴盛于上海，流行于苏浙沪地区。越剧曲调婉转柔美，小提琴协奏曲《梁祝》的主旋律，就采用了越剧的曲调。 \n1984年5月成立的浙江小百花越剧团是中国著名的专业女子越剧表演团体。先后出访过美国、法国、西班牙、荷兰、比利时、日本、新加坡、泰国，并多次赴香港、澳门、台湾地区献艺。 \n本次戏曲文化月框架内，小百花越剧团将为法国公众带来四场越剧折子戏演出，演出包括了广为流传的剧目片段，包括《牡丹亭》《梁祝》《陆游与唐琬》《红楼梦》和《赵氏孤儿》。 \n\n中国戏曲文化月：越剧里的中国故事——“花开的时候”  浙江小百花越剧团团长蔡浙飞讲座\n\n	2024年10月18日周五15:00 \n  \n现代楼三层中华文化体验馆 \n巴黎中国文化中心 \n1\, boulevard de la Tour-Maubourg \n75007 Paris \n👉点击这里👈 \n唯一预订链接：https://www.billetweb.fr/conference-sur-l-opera-yue-les-histoires-chinoises-a-travers-l-opera-yue \n  \n本次戏曲文化月，我们邀请到了浙江小百花越剧团团长蔡浙飞，介绍越剧不同流派的唱法、各流派的旋律、节奏和板眼的变化，并浅析越剧十多种流派的艺术特点和魅力。 \n\n中国戏曲文化月：“不到园林怎知春色如许”—— 上海昆剧团团长谷好好讲座\n\n	2024年10月21日周一15:00 \n  \n现代楼三层中华文化体验馆 \n巴黎中国文化中心 \n1\, boulevard de la Tour-Maubourg \n75007 Paris \n👉点击这里👈 \n唯一预订链接：https://www.billetweb.fr/conference-sur-l-opera-kunqu-comment-deviner-la-douceur-du-printemps-sans-visiter-le-jardin \n  \n          昆曲究竟是什么？六百年的昆曲史经历了怎样的百转千回？是什么赋予它穿越时间的力量？昆曲又沉淀着我们怎样的民族审美文化？著名昆剧演员、上海昆剧团团长、谷好好将带你一同领略“百戏之祖”昆曲的行腔宛转。 \n\n中国戏曲文化月：上海昆剧团巴黎演出《牡丹亭》\n\n	2024年10月21日周一20:00 \n  \nLe Théâtre Libre \n4\, boulevard de Strasbourg \n75010 Paris \n  \n2024年10月22日周二20:00 \n  \nLe Théâtre Libre \n4\, boulevard de Strasbourg \n75010 Paris \n  \n上海昆剧团将为巴黎的观众呈现昆曲的精髓，经典剧目《牡丹亭》即将上演，带您穿越时空，走进古代中国的戏曲世界。 \n\n中国戏曲文化月：京剧文化之旅——《贵妃醉酒》、《定军山》选段\n\n	2024年10月26日周六15:30 \n  \n现代楼多功能剧场 \n巴黎中国文化中心 \n1\, boulevard de la Tour-Maubourg \n75007 Paris \n👉点击这里👈 \n唯一预订链接：https://www.billetweb.fr/representation-d-extraits-de-l-ivresse-de-la-concubine-et-de-la-montagne-dingjun \n  \n在这个特别的京剧文化之旅中，巴黎中国文化中心携手北京市文旅局海外文化交流中心，为巴黎公众献上经典京剧选段《贵妃醉酒》和《定军山》，带您领略京剧艺术的唱念做打之美，感受中国戏曲文化的深厚底蕴。 \n\n信息\n\n	\n2024年10月14日周一至11月09日周六 \n\n\n
URL:https://www.ccc-paris.org/zh/evenement/2024%e4%b8%ad%e5%9b%bd%e6%88%8f%e6%9b%b2%e6%96%87%e5%8c%96%e6%9c%88/
CATEGORIES:其他活动,展览演出
ATTACH;FMTTYPE=image/jpeg:https://www.ccc-paris.org/wp-content/uploads/2024/10/（网页横幅）中国戏曲文化月.jpg
END:VEVENT
END:VCALENDAR