BEGIN:VCALENDAR
VERSION:2.0
PRODID:-//Centre culturel de Chine à Paris - ECPv5.1.5//NONSGML v1.0//EN
CALSCALE:GREGORIAN
METHOD:PUBLISH
X-WR-CALNAME:Centre culturel de Chine à Paris
X-ORIGINAL-URL:https://www.ccc-paris.org
X-WR-CALDESC:Évènements pour Centre culturel de Chine à Paris
BEGIN:VTIMEZONE
TZID:Europe/Paris
BEGIN:DAYLIGHT
TZOFFSETFROM:+0100
TZOFFSETTO:+0200
TZNAME:CEST
DTSTART:20240331T010000
END:DAYLIGHT
BEGIN:STANDARD
TZOFFSETFROM:+0200
TZOFFSETTO:+0100
TZNAME:CET
DTSTART:20241027T010000
END:STANDARD
END:VTIMEZONE
BEGIN:VEVENT
DTSTART;VALUE=DATE:20241121
DTEND;VALUE=DATE:20241211
DTSTAMP:20260423T145643
CREATED:20241118T174601Z
LAST-MODIFIED:20241211T085604Z
UID:43869-1732147200-1733875199@www.ccc-paris.org
SUMMARY:Exposition : œuvre de bande dessinée de Feng Zikai
DESCRIPTION:\n\n	Sentiment humain\n  \nSentiments humains\, exposition des chefs-d’œuvre de bande dessinée de Feng Zikai au Centre culturel de Chine à Paris présente au public français sous l’angle artistique singulier de l’auteur les riches fondements et les sentiments humanistes inhérents à la culture chinoise. \n  \nFeng Zikai (1898-1975) est un artiste\, écrivain et professeur d’art influent de la Chine du XXe siècle\, reconnu comme « précurseur de la bande dessinée chinoise moderne ». Son style créatif simple et épuré empreint de sensibilité dépeignant avec maîtrise l’enfance et la nature\, transforme les instants chaleureux de la vie du quotidien en expressions artistiques intemporelles. Son œuvre intégrant descriptions émotionnelles délicates et textes philosophiques compose un style poétique et pictural original\, dont l’amour de la vie et la compréhension de la nature humaine manifestés exercent une large influence en art et en littérature. \n  \nL’exposition montre cinquante œuvres classiques de Feng Zikai développées autour des trois thèmes « Cœur poétique »\, « Cœur innocent »\, « Cœur compatissant »\, reflets non seulement d’une connaissance étendue de la culture traditionnelle chinoise\, mais encore d’un souci profond envers la société\, l’humanité et la nature. La création combine le détail de la peinture chinoise et l’expressivité de la bande dessinée occidentale évocateurs d’une esthétique unique illustrant avec vivacité les changements historiques et la richesse colorée des tableaux vivants de la société chinoise. \n  \nLe Centre culturel de Chine à Paris a le plaisir d’inviter le public français à découvrir cette exposition\, à travers les œuvres présentées à pénétrer dans l’univers spirituel de la culture chinoise et y percevoir la poésie\, l’innocence et l’humanité sous-jacentes\, afin de témoigner conjointement en ce voyage d’art transcendant l’espace-temps de la richesse créatrice de l’échange culturel sino-français. \n\nGalerie d'images\n\n	\n		\n			#gallery-1 {\n				margin: auto;\n			}\n			#gallery-1 .gallery-item {\n				float: left;\n				margin-top: 10px;\n				text-align: center;\n				width: 20%;\n			}\n			#gallery-1 img {\n				border: 2px solid #cfcfcf;\n			}\n			#gallery-1 .gallery-caption {\n				margin-left: 0;\n			}\n			/* see gallery_shortcode() in wp-includes/media.php */\n		\n		\n			\n				\n			\n			\n				\n			\n			\n				\n			\n			\n				\n			\n			\n				\n			\n			\n				\n			\n			\n				\n			\n			\n				\n			\n			\n				\n			\n			\n				\n			\n			\n				\n			\n			\n				\n			\n			\n				\n			\n			\n				\n			\n			\n				\n			\n		\n\n\nInformations pratiques\n\n	Dates d’ouverture de l’exposition :  \nDu jeudi 21 novembre au mardi 10 décembre 2024 (sauf dimanche) \nDu lundi au samedi \nFermé le dimanche \n  \nHoraires d’ouverture : \n10h-12h30 / 14h-17h30 \n  \nLieu :  \nCentre Culturel de Chine à Paris \n1er étage du bâtiment moderne\n1\, boulevard de la Tour-Maubourg\n75007 Paris \n  \nEntrée libre\, sans réservation \n\n\n\n	—————— \n  \nCérémonie d’ouverture  \nMercredi 20 novembre 2024 à 16h \n  \nCentre culturel de Chine à Paris \nHall d’accueil du bâtiment moderne \n1\, boulevard de la Tour-Maubourg \n75007 Paris \n\n\n\n	Entrée gratuite sur réservation  \n \n\n\n\n	1- Aucune réservation par courriel ni par commentaire. \n2- Merci de réserver uniquement le nombre de places nécessaires et d’annuler les billets à l’avance en cas d'imprévu en cliquant sur le bouton « Gérer ma commande » situé en bas de l’e-mail de confirmation de réservation. \n3- Nous vous invitons à arriver 30 minutes avant le début de séance. Un retard de plus 15 de minutes ne garantit plus l’entrée. \n4- Merci de préparer le billet ou QR code à l'avance. \n5- Si la réservation n'est plus accessible\, l’événement est complet. Il est alors possible de s'inscrire sur la liste d’attente. Un courriel vous sera adressé automatiquement si de nouvelles places se libèrent. \n6- Si des places se libèrent le jour de l’événement\, elles demeurent disponibles sur place jusqu'à 15 minutes suivant le début de séance et peuvent éventuellement être attribuées dans la limite disponible aux personnes n'ayant pu effectuer de réservation en ligne. \n\n
URL:https://www.ccc-paris.org/evenement/sentiments-humains-exposition-des-chefs-doeuvre-de-bande-dessinee-de-feng-zikai/
CATEGORIES:Autres événements,expositions
ATTACH;FMTTYPE=image/jpeg:https://www.ccc-paris.org/wp-content/uploads/2024/11/bande-dessinee-de-Feng-Zikai-3.jpg
END:VEVENT
BEGIN:VEVENT
DTSTART;VALUE=DATE:20241208
DTEND;VALUE=DATE:20241209
DTSTAMP:20260423T145643
CREATED:20240923T142441Z
LAST-MODIFIED:20241113T125907Z
UID:43083-1733616000-1733702399@www.ccc-paris.org
SUMMARY:HSK Session décembre 2024
DESCRIPTION:\n\n	Sentiment humain\n  \nSentiments humains\, exposition des chefs-d’œuvre de bande dessinée de Feng Zikai au Centre culturel de Chine à Paris présente au public français sous l’angle artistique singulier de l’auteur les riches fondements et les sentiments humanistes inhérents à la culture chinoise. \n  \nFeng Zikai (1898-1975) est un artiste\, écrivain et professeur d’art influent de la Chine du XXe siècle\, reconnu comme « précurseur de la bande dessinée chinoise moderne ». Son style créatif simple et épuré empreint de sensibilité dépeignant avec maîtrise l’enfance et la nature\, transforme les instants chaleureux de la vie du quotidien en expressions artistiques intemporelles. Son œuvre intégrant descriptions émotionnelles délicates et textes philosophiques compose un style poétique et pictural original\, dont l’amour de la vie et la compréhension de la nature humaine manifestés exercent une large influence en art et en littérature. \n  \nL’exposition montre cinquante œuvres classiques de Feng Zikai développées autour des trois thèmes « Cœur poétique »\, « Cœur innocent »\, « Cœur compatissant »\, reflets non seulement d’une connaissance étendue de la culture traditionnelle chinoise\, mais encore d’un souci profond envers la société\, l’humanité et la nature. La création combine le détail de la peinture chinoise et l’expressivité de la bande dessinée occidentale évocateurs d’une esthétique unique illustrant avec vivacité les changements historiques et la richesse colorée des tableaux vivants de la société chinoise. \n  \nLe Centre culturel de Chine à Paris a le plaisir d’inviter le public français à découvrir cette exposition\, à travers les œuvres présentées à pénétrer dans l’univers spirituel de la culture chinoise et y percevoir la poésie\, l’innocence et l’humanité sous-jacentes\, afin de témoigner conjointement en ce voyage d’art transcendant l’espace-temps de la richesse créatrice de l’échange culturel sino-français. \n\nGalerie d'images\n\n	\n		\n			#gallery-2 {\n				margin: auto;\n			}\n			#gallery-2 .gallery-item {\n				float: left;\n				margin-top: 10px;\n				text-align: center;\n				width: 20%;\n			}\n			#gallery-2 img {\n				border: 2px solid #cfcfcf;\n			}\n			#gallery-2 .gallery-caption {\n				margin-left: 0;\n			}\n			/* see gallery_shortcode() in wp-includes/media.php */\n		\n		\n			\n				\n			\n			\n				\n			\n			\n				\n			\n			\n				\n			\n			\n				\n			\n			\n				\n			\n			\n				\n			\n			\n				\n			\n			\n				\n			\n			\n				\n			\n			\n				\n			\n			\n				\n			\n			\n				\n			\n			\n				\n			\n			\n				\n			\n		\n\n\nInformations pratiques\n\n	Dates d’ouverture de l’exposition :  \nDu jeudi 21 novembre au mardi 10 décembre 2024 (sauf dimanche) \nDu lundi au samedi \nFermé le dimanche \n  \nHoraires d’ouverture : \n10h-12h30 / 14h-17h30 \n  \nLieu :  \nCentre Culturel de Chine à Paris \n1er étage du bâtiment moderne\n1\, boulevard de la Tour-Maubourg\n75007 Paris \n  \nEntrée libre\, sans réservation \n\n\n\n	—————— \n  \nCérémonie d’ouverture  \nMercredi 20 novembre 2024 à 16h \n  \nCentre culturel de Chine à Paris \nHall d’accueil du bâtiment moderne \n1\, boulevard de la Tour-Maubourg \n75007 Paris \n\n\n\n	Entrée gratuite sur réservation  \n \n\n\n\n	1- Aucune réservation par courriel ni par commentaire. \n2- Merci de réserver uniquement le nombre de places nécessaires et d’annuler les billets à l’avance en cas d'imprévu en cliquant sur le bouton « Gérer ma commande » situé en bas de l’e-mail de confirmation de réservation. \n3- Nous vous invitons à arriver 30 minutes avant le début de séance. Un retard de plus 15 de minutes ne garantit plus l’entrée. \n4- Merci de préparer le billet ou QR code à l'avance. \n5- Si la réservation n'est plus accessible\, l’événement est complet. Il est alors possible de s'inscrire sur la liste d’attente. Un courriel vous sera adressé automatiquement si de nouvelles places se libèrent. \n6- Si des places se libèrent le jour de l’événement\, elles demeurent disponibles sur place jusqu'à 15 minutes suivant le début de séance et peuvent éventuellement être attribuées dans la limite disponible aux personnes n'ayant pu effectuer de réservation en ligne. \n\n
URL:https://www.ccc-paris.org/evenement/hsk-session-decembre-2024/
ATTACH;FMTTYPE=image/png:https://www.ccc-paris.org/wp-content/uploads/2024/09/HSK300.png
END:VEVENT
END:VCALENDAR