BEGIN:VCALENDAR
VERSION:2.0
PRODID:-//Centre culturel de Chine à Paris - ECPv5.1.5//NONSGML v1.0//EN
CALSCALE:GREGORIAN
METHOD:PUBLISH
X-WR-CALNAME:Centre culturel de Chine à Paris
X-ORIGINAL-URL:https://www.ccc-paris.org
X-WR-CALDESC:Évènements pour Centre culturel de Chine à Paris
BEGIN:VTIMEZONE
TZID:Europe/Paris
BEGIN:DAYLIGHT
TZOFFSETFROM:+0100
TZOFFSETTO:+0200
TZNAME:CEST
DTSTART:20240331T010000
END:DAYLIGHT
BEGIN:STANDARD
TZOFFSETFROM:+0200
TZOFFSETTO:+0100
TZNAME:CET
DTSTART:20241027T010000
END:STANDARD
END:VTIMEZONE
BEGIN:VEVENT
DTSTART;VALUE=DATE:20240513
DTEND;VALUE=DATE:20240701
DTSTAMP:20260426T024514
CREATED:20240517T090006Z
LAST-MODIFIED:20240703T124035Z
UID:41842-1715558400-1719791999@www.ccc-paris.org
SUMMARY:10e Festival du cinéma chinois en France
DESCRIPTION:\n\n	10e ÉDITION DU FESTIVAL DU CINÉMA CHINOIS EN FRANCE\n  \nEn 2011\, l’Administration d’État de la radiodiffusion\, du cinéma\, de la télévision de Chine (SARFT)\, le Centre culturel de Chine à Paris et le Groupe Pathé ont conjointement créé le Festival du cinéma chinois\, qui en est actuellement à sa neuvième édition réussie. À travers des projections dans plusieurs villes de France chaque année\, 97 films chinois ont été vus par un total de 250 000 spectateurs français. Des acteurs chinois et français de renom tels que Gong Li\, Liu Ye\, Chen Shu\, Juliette Binoche\, Alain Delon\, Jean Reno\, ainsi que le réalisateur Jiang Wen ont été les ambassadeurs ou ont participé activement aux événements du Festival. \n\n La 10e édition du Festival est conjointement organisée par l’Administration nationale du Film de Chine et le Centre culturel de Chine à Paris. D’autres organismes tels que la CCTV-6 China Movie Official Channel\, les Archives du Film de Chine\, le Centre national du cinéma et de l’image animée (CNC)\, l’Unifrance\, le Groupe Pathé\, et Caocao Mobility France participent en tant que co-organisateurs. \n\n Pendant le Festival\, dix films sélectionnés seront projetés successivement dans dix villes de France. La sélection comprend Yolo\, Pegasus 2\, Kangxi et Louis XIV\, Creation of the Gods I: Kingdom of Storms\, One and Only\, Chang An\, Bfor Busy\, Lighting Up the Stars\, The Wandering Earth II et Nice View. Les dix villes de projection comprennent neuf villes en France métropolitaine dont Paris\, Lyon\, Marseille\, Strasbourg\, Brest\, Dunkerque\, Cannes\, Alès\, Salon-de-Provence\, ainsi que la ville de Saint-Denis de La Réunion. \n\nINFORMATIONS PRATIQUES\n\n	\nDu 13 mai au 30 juin 2024 \nPour plus d'information\, rendez-vous sur le site du Festival du cinéma chinois en France : https://festivalducinemachinoisenfrance.com \n\n\nBANDE-ANNONCE\n\n	\n \n\n
URL:https://www.ccc-paris.org/evenement/10e-festival-du-cinema-chinois-en-france/
CATEGORIES:Autres événements,expositions
ATTACH;FMTTYPE=image/jpeg:https://www.ccc-paris.org/wp-content/uploads/2024/05/20240513-0630-第十届法国中国电影节网站横幅.jpg
END:VEVENT
BEGIN:VEVENT
DTSTART;VALUE=DATE:20240619
DTEND;VALUE=DATE:20240703
DTSTAMP:20260426T024514
CREATED:20240619T081139Z
LAST-MODIFIED:20240702T120954Z
UID:42419-1718755200-1719964799@www.ccc-paris.org
SUMMARY:D’Est en Ouest à l’encre colorée
DESCRIPTION:\n\n	10e ÉDITION DU FESTIVAL DU CINÉMA CHINOIS EN FRANCE\n  \nEn 2011\, l’Administration d’État de la radiodiffusion\, du cinéma\, de la télévision de Chine (SARFT)\, le Centre culturel de Chine à Paris et le Groupe Pathé ont conjointement créé le Festival du cinéma chinois\, qui en est actuellement à sa neuvième édition réussie. À travers des projections dans plusieurs villes de France chaque année\, 97 films chinois ont été vus par un total de 250 000 spectateurs français. Des acteurs chinois et français de renom tels que Gong Li\, Liu Ye\, Chen Shu\, Juliette Binoche\, Alain Delon\, Jean Reno\, ainsi que le réalisateur Jiang Wen ont été les ambassadeurs ou ont participé activement aux événements du Festival. \n\n La 10e édition du Festival est conjointement organisée par l’Administration nationale du Film de Chine et le Centre culturel de Chine à Paris. D’autres organismes tels que la CCTV-6 China Movie Official Channel\, les Archives du Film de Chine\, le Centre national du cinéma et de l’image animée (CNC)\, l’Unifrance\, le Groupe Pathé\, et Caocao Mobility France participent en tant que co-organisateurs. \n\n Pendant le Festival\, dix films sélectionnés seront projetés successivement dans dix villes de France. La sélection comprend Yolo\, Pegasus 2\, Kangxi et Louis XIV\, Creation of the Gods I: Kingdom of Storms\, One and Only\, Chang An\, Bfor Busy\, Lighting Up the Stars\, The Wandering Earth II et Nice View. Les dix villes de projection comprennent neuf villes en France métropolitaine dont Paris\, Lyon\, Marseille\, Strasbourg\, Brest\, Dunkerque\, Cannes\, Alès\, Salon-de-Provence\, ainsi que la ville de Saint-Denis de La Réunion. \n\nINFORMATIONS PRATIQUES\n\n	\nDu 13 mai au 30 juin 2024 \nPour plus d'information\, rendez-vous sur le site du Festival du cinéma chinois en France : https://festivalducinemachinoisenfrance.com \n\n\nBANDE-ANNONCE\n\n	\n \n\n
URL:https://www.ccc-paris.org/evenement/dest-en-ouest-a-lencre-coloree/
CATEGORIES:Autres événements,expositions
ATTACH;FMTTYPE=image/jpeg:https://www.ccc-paris.org/wp-content/uploads/2024/06/（网页横幅）20240618-中法艺术对话作品展——彩墨西东-scaled.jpg
END:VEVENT
END:VCALENDAR